BEGIN:VCALENDAR
VERSION:2.0
PRODID:-//ChamberMaster//Event Calendar 2.0//EN
METHOD:PUBLISH
X-PUBLISHED-TTL:P3D
REFRESH-INTERVAL:P3D
CALSCALE:GREGORIAN
BEGIN:VEVENT
DTSTART:20240323T223000Z
DTEND:20240324T003000Z
X-MICROSOFT-CDO-ALLDAYEVENT:FALSE
SUMMARY:Warriors Got Talent
DESCRIPTION:You are invited to an evening of outstanding entertainment\, and the chance to invest in our future through an auction geared to offer items for sale that will build great memories and experiences\, such as Premiere Seating TX Rangers Tickets not available to the public!\n\n\n\nThrough Warriors Got Talent\, Waxahachie Prep Academy is interested in strengthening our athletic program by using a portion of funds raised at Warriors Got Talent\, to build and equip a weight training room for our students. We moved to a new facility last year\, and we have a top-notch gymnasium\, but no weight room of any kind. This addition will help our school improve its offerings to our athletic program. We are also looking to fund music equipment for our music program\, and to bolster our Warrior Child Scholarship fund.\n\n\n\nThis is in keeping with our goal this year of "Funding our Future". In this campaign so far\, we have raised enough money to reach our goals to enhance campus security and purchase technology equipment\, and now\, we are praying Warriors Got Talent will help us meet our goals in these Campus Improvements and Scholarship Funding.\n\n\n\nWe hope to see you on March 23\, 2024 at 1116 Brown St\, Waxahachie to see what Waxahachie Prep is all about! Doors open at 5pm\, event starts at 5:30 pm.
X-ALT-DESC;FMTTYPE=text/html:<span style="background-color:rgb(255\, 255\, 255)\; color:rgb(77\, 81\, 86)\; font-family:roboto\; font-size:14px">You are invited to an evening of outstanding entertainment\, and the chance to invest in our future through an auction geared to offer items for sale that will build great memories and experiences\, such as Premiere Seating TX Rangers Tickets not available to the public!<br />\n<br />\nThrough Warriors Got Talent\, Waxahachie Prep Academy is interested in strengthening our athletic program by using a portion of funds raised at Warriors Got Talent\, to build and equip a weight training room for our students. We moved to a new facility last year\, and we have a top-notch gymnasium\, but no weight room of any kind. This addition will help our school improve its offerings to our athletic program. We are also looking to fund music equipment for our music program\, and to bolster our Warrior Child Scholarship fund.<br />\n<br />\nThis is in keeping with our goal this year of &quot\;Funding our Future&quot\;. In this campaign so far\, we have raised enough money to reach our goals to enhance campus security and purchase technology equipment\, and now\, we are praying Warriors Got Talent will help us meet our goals in these Campus Improvements and Scholarship Funding.<br />\n<br />\nWe hope to see you on March 23\, 2024 at 1116 Brown St\, Waxahachie to see what Waxahachie Prep is all about! Doors open at 5pm\, event starts at 5:30 pm.</span>
LOCATION:Waxahachie Prep Academy 1116 Brown St (South Entrance) Waxahachie\, TX 75165
UID:e.2888.6751
SEQUENCE:3
DTSTAMP:20260424T055221Z
URL:https://business.waxahachiechamber.com/events/details/warriors-got-talent-6751
END:VEVENT

END:VCALENDAR
