BEGIN:VCALENDAR
VERSION:2.0
PRODID:-//ChamberMaster//Event Calendar 2.0//EN
METHOD:PUBLISH
X-PUBLISHED-TTL:P3D
REFRESH-INTERVAL:P3D
CALSCALE:GREGORIAN
BEGIN:VEVENT
DTSTART:20230325T220000Z
DTEND:20230326T010000Z
X-MICROSOFT-CDO-ALLDAYEVENT:FALSE
SUMMARY:Warriors Got Talent Show & Auction
DESCRIPTION:Waxahachie Prep Academy presents Warriors Got Talent! Our annual talent show and auctions (silent & live) boasts the best singing\, dancing\, comedy acts\, and more. Our live auction will offer items you do not want to miss\, such as food for a year from a local restaurant\, vacation getaways and more!
X-ALT-DESC;FMTTYPE=text/html:Waxahachie Prep Academy presents Warriors Got Talent! Our annual talent show and auctions (silent &amp\; live) boasts the best singing\, dancing\, comedy acts\, and more. Our live auction will offer items you do not want to miss\, such as food for a year from a local restaurant\, vacation getaways and more!
LOCATION:Waxahachie Prep Academy 1116 Brown St. Waxahachie\, TX 75165
UID:e.2888.6017
SEQUENCE:3
DTSTAMP:20260424T151158Z
URL:https://business.waxahachiechamber.com/events/details/warriors-got-talent-show-auction-6017
END:VEVENT

END:VCALENDAR
