BEGIN:VCALENDAR
VERSION:2.0
PRODID:-//ChamberMaster//Event Calendar 2.0//EN
METHOD:PUBLISH
X-PUBLISHED-TTL:P3D
REFRESH-INTERVAL:P3D
CALSCALE:GREGORIAN
BEGIN:VEVENT
DTSTART:20230319T000000Z
DTEND:20230319T010000Z
X-MICROSOFT-CDO-ALLDAYEVENT:FALSE
SUMMARY:Waxahachie Symphony Association - FWSO
DESCRIPTION:Fort Worth Symphony Orchestra - Scheherazade\n\nMarch 18 at 7 pm\n\nSAGU Hagee Center\n\nTickets $20 at waxahachiesymphony.org\n\nPresenting one of the most magical scores in classical music\, the Fort Worth Symphony Orchestra brings Rimsky-Korsakov's symphonic page-turner Scheherazade to dazzling life. Be transported to exotic Ancient Persia as the orchestra tells the story of a clever young bride who spins fantastic tales to survive The One Thousand and One Nights with a murderous Sultan.
X-ALT-DESC;FMTTYPE=text/html:<div data-setdir="false" dir="ltr" style="border: 0px\; font-variant-numeric: inherit\; font-variant-east-asian: inherit\; font-stretch: inherit\; font-size: 13px\; line-height: inherit\; font-family: &quot\;Helvetica Neue&quot\;\, Helvetica\, Arial\, sans-serif\; margin: 0px\; padding: 0px\; vertical-align: baseline\; color: rgb(66\, 66\, 66)\; background-color: rgb(255\, 255\, 255)\;"><b>Fort Worth Symphony Orchestra - Scheherazade</b></div>\n\n<div data-setdir="false" dir="ltr" style="border: 0px\; font-variant-numeric: inherit\; font-variant-east-asian: inherit\; font-stretch: inherit\; font-size: 13px\; line-height: inherit\; font-family: &quot\;Helvetica Neue&quot\;\, Helvetica\, Arial\, sans-serif\; margin: 0px\; padding: 0px\; vertical-align: baseline\; color: rgb(66\, 66\, 66)\; background-color: rgb(255\, 255\, 255)\;">March 18 at 7 pm</div>\n\n<div data-setdir="false" dir="ltr" style="border: 0px\; font-variant-numeric: inherit\; font-variant-east-asian: inherit\; font-stretch: inherit\; font-size: 13px\; line-height: inherit\; font-family: &quot\;Helvetica Neue&quot\;\, Helvetica\, Arial\, sans-serif\; margin: 0px\; padding: 0px\; vertical-align: baseline\; color: rgb(66\, 66\, 66)\; background-color: rgb(255\, 255\, 255)\;">SAGU Hagee Center</div>\n\n<div data-setdir="false" dir="ltr" style="border: 0px\; font-variant-numeric: inherit\; font-variant-east-asian: inherit\; font-stretch: inherit\; font-size: 13px\; line-height: inherit\; font-family: &quot\;Helvetica Neue&quot\;\, Helvetica\, Arial\, sans-serif\; margin: 0px\; padding: 0px\; vertical-align: baseline\; color: rgb(66\, 66\, 66)\; background-color: rgb(255\, 255\, 255)\;">Tickets $20 at&nbsp\;<a data-auth="NotApplicable" data-linkindex="0" data-safelink="true" href="https://urldefense.proofpoint.com/v2/url?u=http-3A__waxahachiesymphony.org&amp\;d=DwQFaQ&amp\;c=euGZstcaTDllvimEN8b7jXrwqOf-v5A_CdpgnVfiiMM&amp\;r=Tue1KcwoGLzQUtdNOVMLBj0TVE1dNcNPiHcOHMUYGL8&amp\;m=sM-s5x3xRPjqpfc76dtBwgFOE7xDtmfAl3Phl34e0WI&amp\;s=g5SiPojK8oH98XtQK6MxagrCvSaxIrN4IsnpT1k4c0s&amp\;e=" rel="noopener noreferrer" style="border: 0px\; font: inherit\; margin: 0px\; padding: 0px\; vertical-align: baseline\;" target="_blank">waxahachiesymphony.org</a></div>\n\n<div data-setdir="false" dir="ltr" style="border: 0px\; font-variant-numeric: inherit\; font-variant-east-asian: inherit\; font-stretch: inherit\; font-size: 13px\; line-height: inherit\; font-family: &quot\;Helvetica Neue&quot\;\, Helvetica\, Arial\, sans-serif\; margin: 0px\; padding: 0px\; vertical-align: baseline\; color: rgb(66\, 66\, 66)\; background-color: rgb(255\, 255\, 255)\;"><span style="border: 0px\; font: inherit\; margin: 0px\; padding: 0px\; vertical-align: baseline\; color: inherit\;"><span style="border: 0px\; font-style: inherit\; font-variant: inherit\; font-weight: inherit\; font-stretch: inherit\; font-size: small\; line-height: inherit\; margin: 0px\; padding: 0px\; vertical-align: baseline\; color: rgb(54\, 54\, 54)\;">Presenting one of the most magical scores in classical music\, the Fort Worth Symphony Orchestra brings Rimsky-Korsakov&rsquo\;s symphonic page-turner&nbsp\;</span><em style="color: rgb(54\, 54\, 54)\; font-size: small\; vertical-align: baseline\; background-color: transparent\; margin: 0px\; padding: 0px\; border-width: 0px\; outline: 0px\;">Scheherazade</em><span style="border: 0px\; font-style: inherit\; font-variant: inherit\; font-weight: inherit\; font-stretch: inherit\; font-size: small\; line-height: inherit\; margin: 0px\; padding: 0px\; vertical-align: baseline\; color: rgb(54\, 54\, 54)\;">&nbsp\;to dazzling life. Be transported to exotic Ancient Persia as the orchestra tells the story of a clever young bride who spins fantastic tales to survive&nbsp\;</span><em style="color: rgb(54\, 54\, 54)\; font-size: small\; vertical-align: baseline\; background-color: transparent\; margin: 0px\; padding: 0px\; border-width: 0px\; outline: 0px\;">The One Thousand and One Nights</em><span style="border: 0px\; font-style: inherit\; font-variant: inherit\; font-weight: inherit\; font-stretch: inherit\; font-size: small\; line-height: inherit\; margin: 0px\; padding: 0px\; vertical-align: baseline\; color: rgb(54\, 54\, 54)\;">&nbsp\;with a murderous Sultan.</span></span></div>\n
LOCATION:SAGU Hagee Center Waxahachie
UID:e.2888.6014
SEQUENCE:3
DTSTAMP:20260424T151326Z
URL:https://business.waxahachiechamber.com/events/details/waxahachie-symphony-association-fwso-6014
END:VEVENT

END:VCALENDAR
