BEGIN:VCALENDAR
VERSION:2.0
PRODID:-//ChamberMaster//Event Calendar 2.0//EN
METHOD:PUBLISH
X-PUBLISHED-TTL:P3D
REFRESH-INTERVAL:P3D
CALSCALE:GREGORIAN
BEGIN:VEVENT
DTSTART:20221003T133000Z
DTEND:20221003T143000Z
X-MICROSOFT-CDO-ALLDAYEVENT:FALSE
SUMMARY:Waxahachie Young Professionals Coffee Chat
DESCRIPTION:Special Guest Speaker: Congressman Jake Ellzey
X-ALT-DESC;FMTTYPE=text/html:Special Guest Speaker: Congressman Jake Ellzey
LOCATION:Waxahachie Chamber of Commerce Boardroom 102 YMCA Dr. Waxahachie
UID:e.2888.5762
SEQUENCE:3
DTSTAMP:20260424T035800Z
URL:https://business.waxahachiechamber.com/events/details/waxahachie-young-professionals-coffee-chat-5762
END:VEVENT

END:VCALENDAR
