BEGIN:VCALENDAR
VERSION:2.0
PRODID:-//ChamberMaster//Event Calendar 2.0//EN
METHOD:PUBLISH
X-PUBLISHED-TTL:P3D
REFRESH-INTERVAL:P3D
CALSCALE:GREGORIAN
BEGIN:VEVENT
DTSTART:20230405T133000Z
DTEND:20230405T143000Z
X-MICROSOFT-CDO-ALLDAYEVENT:FALSE
SUMMARY:Waxahachie Young Professionals Coffee & Connect
DESCRIPTION:
X-ALT-DESC;FMTTYPE=text/html:
LOCATION:Community National Bank & Trust of Texas 1905 N Hwy 77 Waxahachie
UID:e.2888.6021
SEQUENCE:3
DTSTAMP:20260422T101348Z
URL:https://business.waxahachiechamber.com/events/details/waxahachie-young-professionals-coffee-connect-04-05-2023-6021
END:VEVENT

END:VCALENDAR
