BEGIN:VCALENDAR
VERSION:2.0
PRODID:-//ChamberMaster//Event Calendar 2.0//EN
METHOD:PUBLISH
X-PUBLISHED-TTL:P3D
REFRESH-INTERVAL:P3D
CALSCALE:GREGORIAN
BEGIN:VEVENT
DTSTART:20240703T133000Z
DTEND:20240703T143000Z
X-MICROSOFT-CDO-ALLDAYEVENT:FALSE
SUMMARY:Waxahachie Young Professionals Coffee & Connect
DESCRIPTION:
X-ALT-DESC;FMTTYPE=text/html:
LOCATION:Waxahachie Chamber of Commerce Boardroom 412 S. Rogers St.\, Suite 100 Waxahachie\, TX 75165
UID:e.2888.6724
SEQUENCE:3
DTSTAMP:20260423T111605Z
URL:https://business.waxahachiechamber.com/events/details/waxahachie-young-professionals-coffee-connect-07-03-2024-6724
END:VEVENT

END:VCALENDAR
