BEGIN:VCALENDAR
VERSION:2.0
PRODID:-//ChamberMaster//Event Calendar 2.0//EN
METHOD:PUBLISH
X-PUBLISHED-TTL:P3D
REFRESH-INTERVAL:P3D
CALSCALE:GREGORIAN
BEGIN:VEVENT
DTSTART:20240228T223000Z
DTEND:20240229T000000Z
X-MICROSOFT-CDO-ALLDAYEVENT:FALSE
SUMMARY:Wine a Little\, Laugh a Lot!
DESCRIPTION:Come "Wine-down" with your favorite glass at Arabella of Red Oak. Enjoy tasting delicious wines and scrumptious hors d'oeuvres. This is the evening you've been waiting for\, and you don't want to miss it! Leave your troubles at the door and enter into an evening of pure bliss.\n\n\n\nYou must RSVP by 2/26/24. \n\nText "WINE" to 972-898-3629
X-ALT-DESC;FMTTYPE=text/html:Come &quot\;Wine-down&quot\; with your favorite glass at Arabella of Red Oak. Enjoy tasting delicious wines and scrumptious hors d&#39\;oeuvres. This is the evening you&#39\;ve been waiting for\, and you don&#39\;t want to miss it! Leave your troubles at the door and enter into an evening of pure bliss.<br />\n<br />\nYou must RSVP by 2/26/24.&nbsp\;<br />\nText &quot\;WINE&quot\; to 972-898-3629
LOCATION:Arabella of Red Oak 200 Washington St Red Oak\, TX 75154
UID:e.2888.6773
SEQUENCE:3
DTSTAMP:20260424T232237Z
URL:https://business.waxahachiechamber.com/events/details/wine-a-little-laugh-a-lot-6773
END:VEVENT

END:VCALENDAR
