BEGIN:VCALENDAR
VERSION:2.0
PRODID:-//ChamberMaster//Event Calendar 2.0//EN
METHOD:PUBLISH
X-PUBLISHED-TTL:P3D
REFRESH-INTERVAL:P3D
CALSCALE:GREGORIAN
BEGIN:VEVENT
DTSTART:20221010T230000Z
DTEND:20221011T010000Z
X-MICROSOFT-CDO-ALLDAYEVENT:FALSE
SUMMARY:Wood Pumpkin Decor Making
DESCRIPTION:This project will be the perfect addition to your Fall decor! Using chalk paint\, napkins\, sealer\, kraft twine and gold leafing\, you will create a one-of-a-kind wooden decor pumpkin. Choose your pattern design and create your adorable Fall pumpkin!  Instructor is Lori Souter.
X-ALT-DESC;FMTTYPE=text/html:<span style="background-color:rgb(255\, 255\, 255)\; font-family:roboto\,robotodraft\,helvetica\,arial\,sans-serif\; font-size:13px">This project will be the perfect addition to your Fall decor! Using chalk paint\, napkins\, sealer\, kraft twine and gold leafing\, you will create a one-of-a-kind wooden decor pumpkin. Choose your pattern design and create your adorable Fall pumpkin!&nbsp\; Instructor is Lori Souter.</span>
LOCATION:Hachie House 105 N. Hawkins Waxahachie\, Texas 75165
UID:e.2888.5804
SEQUENCE:3
DTSTAMP:20260424T055226Z
URL:https://business.waxahachiechamber.com/events/details/wood-pumpkin-decor-making-5804
END:VEVENT

END:VCALENDAR
