BEGIN:VCALENDAR
VERSION:2.0
PRODID:-//ChamberMaster//Event Calendar 2.0//EN
METHOD:PUBLISH
X-PUBLISHED-TTL:P3D
REFRESH-INTERVAL:P3D
CALSCALE:GREGORIAN
BEGIN:VEVENT
DTSTART:20231204T160000Z
DTEND:20231204T180000Z
X-MICROSOFT-CDO-ALLDAYEVENT:FALSE
SUMMARY:Workforce- Hiring Event!!! Come See Us
DESCRIPTION:Workforce Hiring Event!!!!\n\n10 am -12 pm \n\n\n\nTDCJ\, Southern Welding\, Haniff Transportation\, Assisting Hands!
X-ALT-DESC;FMTTYPE=text/html:Workforce Hiring Event!!!!<br />\n10 am -12 pm&nbsp\;<br />\n<br />\nTDCJ\, Southern Welding\, Haniff Transportation\, Assisting Hands!
LOCATION:Workforce Solutions 1712 W Hwy 287 Business Waxahachie 75165
UID:e.2888.6698
SEQUENCE:3
DTSTAMP:20260424T110007Z
URL:https://business.waxahachiechamber.com/events/details/workforce-hiring-event-come-see-us-12-04-2023-6698
END:VEVENT

END:VCALENDAR
